BEGIN:VCALENDAR
VERSION:2.0
PRODID:spatie/icalendar-generator
NAME:Milwaukee Innovation Tour - THD NORTH BAY - June 5\, 2026
X-WR-CALNAME:Milwaukee Innovation Tour - THD NORTH BAY - June 5\, 2026
DESCRIPTION:
X-WR-CALDESC:
BEGIN:VTIMEZONE
TZID:America/Toronto
BEGIN:STANDARD
DTSTART:20251102T010000
TZOFFSETFROM:-0400
TZOFFSETTO:-0500
END:STANDARD
BEGIN:DAYLIGHT
DTSTART:20260308T010000
TZOFFSETFROM:-0500
TZOFFSETTO:-0400
END:DAYLIGHT
BEGIN:STANDARD
DTSTART:20261101T010000
TZOFFSETFROM:-0400
TZOFFSETTO:-0500
END:STANDARD
END:VTIMEZONE
BEGIN:VTIMEZONE
TZID:UTC
BEGIN:STANDARD
DTSTART:20250725T124638
TZOFFSETFROM:+0000
TZOFFSETTO:+0000
END:STANDARD
END:VTIMEZONE
BEGIN:VEVENT
UID:event-207@www.milwaukeethdevents.ca
DTSTAMP:20260421T124638Z
SUMMARY:Milwaukee Innovation Tour - THD NORTH BAY - June 5\, 2026
DESCRIPTION:
LOCATION:1275 Seymour Street\, North Bay\, Ontario\, P1B 9V6
STATUS:CONFIRMED
DTSTART;TZID=America/Toronto:20260605T080000
DTEND;TZID=America/Toronto:20260605T150000
GEO:46.30631439999999798828866914846003055572509765625;-79.4373844999999931
 815182208083570003509521484375
SEQUENCE:1776775598
END:VEVENT
END:VCALENDAR