BEGIN:VCALENDAR
VERSION:2.0
PRODID:spatie/icalendar-generator
NAME:Milwaukee Innovation Tour - THD POLO PARK - June 5\, 2026
X-WR-CALNAME:Milwaukee Innovation Tour - THD POLO PARK - June 5\, 2026
DESCRIPTION:
X-WR-CALDESC:
BEGIN:VTIMEZONE
TZID:America/Toronto
BEGIN:STANDARD
DTSTART:20251102T010000
TZOFFSETFROM:-0400
TZOFFSETTO:-0500
END:STANDARD
BEGIN:DAYLIGHT
DTSTART:20260308T010000
TZOFFSETFROM:-0500
TZOFFSETTO:-0400
END:DAYLIGHT
BEGIN:STANDARD
DTSTART:20261101T010000
TZOFFSETFROM:-0400
TZOFFSETTO:-0500
END:STANDARD
END:VTIMEZONE
BEGIN:VTIMEZONE
TZID:UTC
BEGIN:STANDARD
DTSTART:20250725T124637
TZOFFSETFROM:+0000
TZOFFSETTO:+0000
END:STANDARD
END:VTIMEZONE
BEGIN:VEVENT
UID:event-206@www.milwaukeethdevents.ca
DTSTAMP:20260421T124637Z
SUMMARY:Milwaukee Innovation Tour - THD POLO PARK - June 5\, 2026
DESCRIPTION:
LOCATION:727 Empress Street\, Winnipeg\, Manitoba\, R3G 3P5
STATUS:CONFIRMED
DTSTART;TZID=America/Toronto:20260605T080000
DTEND;TZID=America/Toronto:20260605T150000
GEO:49.88828409999999990986907505430281162261962890625;-97.1976712999999961
 08454070053994655609130859375
SEQUENCE:1776775597
END:VEVENT
END:VCALENDAR