BEGIN:VCALENDAR
VERSION:2.0
PRODID:spatie/icalendar-generator
NAME:Milwaukee Innovation Tour - THD GATINEAU - May 7-8\, 2026
X-WR-CALNAME:Milwaukee Innovation Tour - THD GATINEAU - May 7-8\, 2026
DESCRIPTION:
X-WR-CALDESC:
BEGIN:VTIMEZONE
TZID:America/Toronto
BEGIN:STANDARD
DTSTART:20251102T010000
TZOFFSETFROM:-0400
TZOFFSETTO:-0500
END:STANDARD
BEGIN:DAYLIGHT
DTSTART:20260308T010000
TZOFFSETFROM:-0500
TZOFFSETTO:-0400
END:DAYLIGHT
BEGIN:STANDARD
DTSTART:20261101T010000
TZOFFSETFROM:-0400
TZOFFSETTO:-0500
END:STANDARD
END:VTIMEZONE
BEGIN:VTIMEZONE
TZID:UTC
BEGIN:STANDARD
DTSTART:20250724T030245
TZOFFSETFROM:+0000
TZOFFSETTO:+0000
END:STANDARD
END:VTIMEZONE
BEGIN:VEVENT
UID:event-189@www.milwaukeethdevents.ca
DTSTAMP:20260420T030245Z
SUMMARY:Milwaukee Innovation Tour - THD GATINEAU - May 7-8\, 2026
DESCRIPTION:
LOCATION:243 Montée Paiement\, Gatineau\, Québec\, J8P 6M7
STATUS:CONFIRMED
RRULE:FREQ=DAILY;UNTIL=20260509T000000
DTSTART;TZID=America/Toronto:20260507T080000
DTEND;TZID=America/Toronto:20260507T150000
GEO:45.48440000000000082991391536779701709747314453125;-75.6770120999999988
 953277352266013622283935546875
SEQUENCE:1776654165
END:VEVENT
END:VCALENDAR