BEGIN:VCALENDAR
VERSION:2.0
PRODID:spatie/icalendar-generator
NAME:Milwaukee Innovation Tour - THD BRAMPTON NORTH - April 30-May 1\, 2026
X-WR-CALNAME:Milwaukee Innovation Tour - THD BRAMPTON NORTH - April 30-May 
 1\, 2026
DESCRIPTION:
X-WR-CALDESC:
BEGIN:VTIMEZONE
TZID:America/Toronto
BEGIN:STANDARD
DTSTART:20251102T010000
TZOFFSETFROM:-0400
TZOFFSETTO:-0500
END:STANDARD
BEGIN:DAYLIGHT
DTSTART:20260308T010000
TZOFFSETFROM:-0500
TZOFFSETTO:-0400
END:DAYLIGHT
BEGIN:STANDARD
DTSTART:20261101T010000
TZOFFSETFROM:-0400
TZOFFSETTO:-0500
END:STANDARD
END:VTIMEZONE
BEGIN:VTIMEZONE
TZID:UTC
BEGIN:STANDARD
DTSTART:20250724T030245
TZOFFSETFROM:+0000
TZOFFSETTO:+0000
END:STANDARD
END:VTIMEZONE
BEGIN:VEVENT
UID:event-185@www.milwaukeethdevents.ca
DTSTAMP:20260420T030245Z
SUMMARY:Milwaukee Innovation Tour - THD BRAMPTON NORTH - April 30-May 1\, 2
 026
DESCRIPTION:
LOCATION:60 Great Lakes Drive\, Brampton\, Ontario\, J4Y 0B5
STATUS:CONFIRMED
RRULE:FREQ=DAILY;UNTIL=20260502T000000
DTSTART;TZID=America/Toronto:20260430T080000
DTEND;TZID=America/Toronto:20260430T150000
GEO:43.7310006000000015546902432106435298919677734375;-79.76784910000000650
 1431926153600215911865234375
SEQUENCE:1776654165
END:VEVENT
END:VCALENDAR